BEGIN:VCALENDAR
VERSION:2.0
PRODID:-//PROOH2V | Das Wasserstoff Netzwerk - ECPv6.15.20//NONSGML v1.0//EN
CALSCALE:GREGORIAN
METHOD:PUBLISH
X-WR-CALNAME:PROOH2V | Das Wasserstoff Netzwerk
X-ORIGINAL-URL:https://prooh2v.net
X-WR-CALDESC:Veranstaltungen für PROOH2V | Das Wasserstoff Netzwerk
REFRESH-INTERVAL;VALUE=DURATION:PT1H
X-Robots-Tag:noindex
X-PUBLISHED-TTL:PT1H
BEGIN:VTIMEZONE
TZID:Europe/Berlin
BEGIN:DAYLIGHT
TZOFFSETFROM:+0100
TZOFFSETTO:+0200
TZNAME:CEST
DTSTART:20240331T010000
END:DAYLIGHT
BEGIN:STANDARD
TZOFFSETFROM:+0200
TZOFFSETTO:+0100
TZNAME:CET
DTSTART:20241027T010000
END:STANDARD
BEGIN:DAYLIGHT
TZOFFSETFROM:+0100
TZOFFSETTO:+0200
TZNAME:CEST
DTSTART:20250330T010000
END:DAYLIGHT
BEGIN:STANDARD
TZOFFSETFROM:+0200
TZOFFSETTO:+0100
TZNAME:CET
DTSTART:20251026T010000
END:STANDARD
BEGIN:DAYLIGHT
TZOFFSETFROM:+0100
TZOFFSETTO:+0200
TZNAME:CEST
DTSTART:20260329T010000
END:DAYLIGHT
BEGIN:STANDARD
TZOFFSETFROM:+0200
TZOFFSETTO:+0100
TZNAME:CET
DTSTART:20261025T010000
END:STANDARD
END:VTIMEZONE
BEGIN:VEVENT
DTSTART;TZID=Europe/Berlin:20251103T100000
DTEND;TZID=Europe/Berlin:20251103T153000
DTSTAMP:20260422T121729
CREATED:20250929T130947Z
LAST-MODIFIED:20250929T130947Z
UID:987521089-1762164000-1762183800@prooh2v.net
SUMMARY:H2 meets Industry: Skalierung\, Regulierung und Versorgungssicherheit
DESCRIPTION:Sehr geehrte Damen und Herren\, \nist Wasserstoff der Schlüssel zur Energiezukunft – oder nur ein Hype? \nGemeinsam mit der IHK Cottbus\, der ENO\, dem Fraunhofer IWU und vielen weiteren Partnern beleuchten wir unter dem Motto „H2 meets Industry: Skalierung\, Regulierung und Versorgungssicherheit“ genau diese Frage. \nFreuen Sie sich auf spannende Impulse aus Industrie\, Wissenschaft und Politik. Sie erhalten Einblicke in konkrete Projekte\, rechtliche Rahmenbedingungen und Zukunftstrends – und haben zugleich die Gelegenheit\, Ihr Netzwerk zu erweitern und neue Kooperationen zu knüpfen. \n📅 Wann: Montag\, 03.11.2025 | 10:00 – 15:30 Uhr \n📍 Wo: Kulturschiff Senftenberg\, Straße zur Südsee\, 01968 Senftenberg \nDas vorläufige Programm finden Sie im Anhang. Bitte merken Sie sich den Termin schon heute vor! Die Anmeldung ist schon jetzt unter https://www.sichtwechsel-zukunft.de/veranstaltungen möglich und die Teilnehmerzahl begrenzt. Schnell sein lohnt sich. \nNutzen Sie die Bühne für Ihr Projekt\, Ihr Produkt oder Ihr Unternehmen! \nIm Rahmen des Netzwerktreffens besteht die Möglichkeit\, \n\nin kurzen Pitches Ihre Ideen und Lösungen zu präsentieren oder\nmit einem Roll-Up vor Ort Präsenz zu zeigen.\n\nBei Interesse schreiben Sie bitte eine kurze Mail an: schichtwechsel@wirtschaft-goerlitz.de oder verwenden Sie die Kommentarfunktion bei der Anmeldung zur Veranstaltung. \nWir freuen uns\, Sie an Bord zu begrüßen – auf dem Kulturschiff Senftenberg und beim Austausch über die Zukunft des Wasserstoffs in der Lausitz. \nMit freundlichen Grüßen\nProgramm_03.11.25_H2-Netzwerktreffen DurcH2atmenPer Wiesner
URL:https://prooh2v.net/event/h2-meets-industry-skalierung-regulierung-und-versorgungssicherheit/
LOCATION:Kulturschiff Senftenberg\, Straße zur Südsee\, Senftenberg\, 01968
ATTACH;FMTTYPE=image/png:https://prooh2v.net/wp-content/uploads/2025/09/Bildschirmfoto-2025-09-29-um-15.06.11.png
END:VEVENT
BEGIN:VEVENT
DTSTART;TZID=Europe/Berlin:20251104T140000
DTEND;TZID=Europe/Berlin:20251104T180000
DTSTAMP:20260422T121729
CREATED:20251015T064445Z
LAST-MODIFIED:20251017T054107Z
UID:987521131-1762264800-1762279200@prooh2v.net
SUMMARY:H2-Workshop: Mitwirkung an der H2CE-Machbarkeitsstudie und Erstellung eines H2-Aktionsplans für Nordwest-Brandenburg
DESCRIPTION:Mitwirkung an der H2CE-Machbarkeitsstudie und Erstellung eines H2-Aktionsplans für Nordwest-Brandenburg \nLiebe Partnerinnen und Partner\, \nhiermit laden wir Sie sehr herzlich zu unserem neuen Workshop zum Thema Wasserstoff am 4. November 2025 von 14 bis 18 Uhr im Quartier 20 in Neuruppin ein. \nBei diesem Treffen wollen wir mit Ihnen gemeinsam sowohl an unserer zweiten H2CE-Machbarkeitsstudie arbeiten als auch an unserem Aktionsplan zur Einführung von Wasserstoff in der Region Nordwest-Brandenburg. \nH2-Workshop: Mitwirkung an der H2CE-Machbarkeitsstudie und Erstellung eines H2-Aktionsplans für Nordwest-Brandenburg\nam 4. November 2025 von 14 bis 18 Uhr\nim Quartier 20 in der Steinstraße 20/2. Stock (Loft)\, 16816 Neuruppin \nDie REG Regionalentwicklungsgesellschaft Nordwestbrandenburg mbH hat im Rahmen des Interreg-Förderprogramms H2CE (hydrogen for Central Europe – Wasserstoff für Zentral Europa) bereits eine Machbarkeitsstudie vom Reiner-Lemoine-Institut erstellen lassen\, die auf unserer H2-Potentialstudie aufbaute. \nBis zum H2CE-Projektende Ende März 2026 soll jetzt vom RLI noch eine weitere Machbarkeitsstudie sowie ein Aktionsplan mit Unterstützung des H2-Netzwerks für Nordwest-Brandenburg PROOH2V e.V. fertiggestellt werden. \nIn der Studie geht es darum\, herauszufinden\, wie am sinnvollsten anhand von dezentralen Vorhaben in unserer Region Wasserstoff erzeugt und auch eingesetzt werden kann. Ein Anker-Projekt wird das Vorhaben „Multiodale Schiene Nordost“ von der DESAG sein\, die in der Region ein privates Eisenbahnnetz betreibt und erwägt\, perspektivisch Wasserstoff für seine Züge einzusetzen. \nDer Aktionsplan soll ein Art Leitfaden werden\, wie in Nordwest-Brandenburg Wasserstoffanwendungen etabliert und die reichlich vorhandenen Erneuerbare-Energien-Kapazitäten sinnvoll genutzt werden können. \nFür beides benötigen wir Input aus der Region – von den hier ansässigen Unternehmen\, aus den Verwaltungen und möglichst vielen Institutionen\, die sich mit der Energiewende und der Nutzung erneuerbarer Energien befassen. \nDies ist eine Einladung\, sich aktiv in die Erstellung einer aussagekräftigen Studie sowie die Aufstellung eines ambitionierten Aktionsplans einzubringen. Ziel des Workshops ist\, Ihre Wünsche und Bedarfe aufzunehmen\, einzuarbeiten und dann auch umzusetzen. \nNutzen Sie diese einmalige Gelegenheit\, die Entwicklung der Region aktiv mitzugestalten. \nWir bitten um Rückmeldung zu Ihrer Teilnahme bis zum 31. Oktober 2025. \nIch freue mich auf einen ergiebigen und fruchtvollen Austausch. \nMit freundlichen Grüßen \nSven Geitmann\nProjektmanager Wasserstoff \nTelefon   +49 (0) 3391 8699-200\nFax         +49 (0) 3391 8699-211\nE-Mail    sg@reg-nordwestbrandenburg.de \nWeb       reg-nordwestbrandenburg.de \n“]
URL:https://prooh2v.net/event/h2-workshop-mitwirkung-an-der-h2ce-machbarkeitsstudie-und-erstellung-eines-h2-aktionsplans-fuer-nordwest-brandenburg/
ATTACH;FMTTYPE=image/png:https://prooh2v.net/wp-content/uploads/2025/10/Bildschirmfoto-2025-10-15-um-08.43.47.png
END:VEVENT
BEGIN:VEVENT
DTSTART;TZID=Europe/Berlin:20251105T080000
DTEND;TZID=Europe/Berlin:20251107T170000
DTSTAMP:20260422T121729
CREATED:20250925T132959Z
LAST-MODIFIED:20250925T132959Z
UID:987521075-1762329600-1762534800@prooh2v.net
SUMMARY:32. REGWA Symposium „Regenerative Energien und Wasserstofftechnologien“
DESCRIPTION:Sehr geehrte Damen und Herren\, \nDie Hochschule Stralsund lädt zum 32. REGWA Symposium „Regenerative Energien und Wasserstofftechnologien“ ein. Die Veranstaltung findet vom 05. bis 07. November 2025 statt. \nNeu ist in diesem Rahmen die parallel stattfindende Baltic Sea Hydrogen Conference\, mit der wir den Austausch im Ostseeraum zu Wasserstoffthemen weiter fördern möchten. Aufbauend auf intensiven Kontakten zu Forschenden und Wasserstoffclustern im vergangenen Jahr konnten wir hierfür bereits großes Interesse wecken. Als Auftakt soll die REGWA 2025 als Plattform für eine erste\, kleinere Ausgabe der Baltic Sea Hydrogen Conference dienen – mit parallelen englischsprachigen Fachsessions. \nErgänzend setzen wir die im letzten Jahr erfolgreich gestartete Deutsch-Polnische Wasserstoffkonferenz fort\, in Kooperation mit dem grenzüberschreitenden Informations- und Beratungsnetzwerk (IBN). \nDiese Initiativen bieten neue Möglichkeiten zum internationalen Austausch über aktuelle Entwicklungen in Wissenschaft\, Technik und Praxis im Bereich Wasserstoff und erneuerbare Energien. \nZielgruppen der Veranstaltung sind erneut:\n– Forschende aus dem Bereich regenerativer Energien\,\n– Vertreter:innen der Energiewirtschaft\,\n– Kommunale Entscheidungsträger sowie\n– Studierende technischer und naturwissenschaftlicher Fachrichtungen. \nDie Programmstruktur 2025 im Überblick: \n05.11.2025 \n\nVormittag: Deutsch-Polnische Wasserstoffkonferenz (Deutsch–Polnisch–Englisch)\nNachmittag (2 parallele Veranstaltungen):\n\n\n\n\nExkursion nach Greifswald zum Leibniz-Institut für Plasma-Wissenschaft und Technologie (INP) (Deutsch–Polnisch–Englisch)\nDeutsch-polnischer Matchmaking-Nachmittag in Stralsund (Deutsch–Polnisch–Englisch)\n\n\n\n\nAbend: Get-together in Stralsund\n\n06.11.2025 \n\n1-tägige Veranstaltung: hy:conf und REGWA (3 parallele Konferenzsitzungen)\n\n\n\n\nOstsee-Wasserstoffkonferenz hy:conf (Englisch)\nOstsee-Wasserstoff-Kooperationsworkshop (Englisch)\nREGWA-Energiesymposium (Deutsch–Englisch)\n\n\n\n\nAbend: Konferenzdinner in Stralsund\n\n07.11.2025 \n\nhy:conf und REGWA (2 parallele Konferenzsitzungen)\n\n\n\n\nOstsee-Wasserstoffkonferenz hy:conf (Englisch)\nREGWA-Energiesymposium (Deutsch–Englisch)\n\n\n\n\nWir würden uns außerdem freuen\, wenn Sie mit eigenen Fachbeiträgen Ihrer Einrichtung teilnehmen wollen. Dazu bitten wir Interessierte\, unter folgendem Link ein Abstract (1-2 Seiten) einzureichen:  Registrierung.\nDer Einsendeschluss für Abstracts ist der 30. September 2025. Leiten Sie diese Information auch gern in Ihrem Netzwerk weiter. \nWillkommen sind Themen aus den folgenden Bereichen: \n·        Energienetze und Energiespeicherung\n·        Energieeffizienz\, Resilienz und Umweltschutz\n·        Sektorenkopplung\n·        Wasserstoff-Infrastruktur und Brennstoffzellentechnologie\n·        Alternative Kraftstoffe / alternative Antriebssysteme\n·        Windenergie onshore/offshore\n·        Photovoltaik/Solarthermie\n·        Bioökonomie / Verwertung biogener Reststoffe\n·        Dekarbonisierung der Wärmeversorgung\n·        Gesetzliche Regelungen der Energiepolitik\n·        Klimawandelforschung\n·        Akzeptanz- und Beteiligungsforschung \nAb sofort können Sie sich auch als Teilnehmer für die Konferenz anmelden und sich Ihren Platz sichern: Registrierung \nDie komplette Konferenz wird von verschiedenen Trägern und dem Land unterstützt\, sodass wir keinerlei Kosten erheben müssen und die Konferenz für Vortragende sowie Besuchende kostenfrei angeboten werden kann.Die Teilnehmerzahlen für die Abendveranstaltungen und die Exkursion sind begrenzt. Sichern Sie sich Ihren Platz durch rechtzeitige Anmeldung. \nWir freuen uns auf spannende Gespräche und neue Impulse für die Gestaltung einer klimaneutralen Zukunft! \nViele Grüße\nMarco Eberle
URL:https://prooh2v.net/event/32-regwa-symposium-regenerative-energien-und-wasserstofftechnologien/
LOCATION:Hochschule Stralsund\, Zur Schwedenschanze 15\, Stralsund\, Germany
ATTACH;FMTTYPE=image/png:https://prooh2v.net/wp-content/uploads/2025/09/Bildschirmfoto-2025-09-25-um-15.29.35.png
END:VEVENT
BEGIN:VEVENT
DTSTART;TZID=Europe/Berlin:20251119T160000
DTEND;TZID=Europe/Berlin:20251119T180000
DTSTAMP:20260422T121729
CREATED:20250617T112906Z
LAST-MODIFIED:20251006T065513Z
UID:987520776-1763568000-1763575200@prooh2v.net
SUMMARY:PROOH2V Netzwerktreffen in Falkensee
DESCRIPTION:Sehr geehrte Damen und Herren\, \nhiermit lädt herzlich das Wasserstoffnetzwerk PROOH2V zusammen mit der Bürgerinitiative „Wasserstoff – Neue Energie für Falkensee“ zu einem neuen Netzwerktreffen ein. Gerne können im Vorfeld eigene Punkte eingebracht werden. \nOrt: Musiksaalgebäude am Gutspark\, Am Gutspark 4\, 14612 Falkensee\n(Das Gebäude ist über die Straße am Gutspark oder über die Scharenbergstraße zu erreichen.) \nTOP: \n\nBegrüßung und Vorstellungsrunde\nBericht aus dem PROOH2V Netzwerk\nBericht Interreg Central Europe H2CE/ RLI Studie (Projektlaufzeit bis März 2026)\nHerr Dr. Reiß (MWAEK) berichtet für die Landesregierung\nHyExpert Studie HVL Was wurde daraus?\nDiskussion und Austausch\n\nMit freundlichen Grüßen \nJan Gühne \ni.A. Vorstand PROOH2V e.V. \nEinladung Netzwerktreffen 19.11.2025\, Falkensee
URL:https://prooh2v.net/event/save-the-date-prooh2v-netzwerktreffen-in-falkensee/
LOCATION:Musiksaalgebäude Falkensee\, Am Gutspark 4\, Falkensee\, 14612
ATTACH;FMTTYPE=image/png:https://prooh2v.net/wp-content/uploads/2025/06/Bildschirmfoto-2025-10-06-um-08.54.45.png
END:VEVENT
BEGIN:VEVENT
DTSTART;TZID=Europe/Berlin:20251126T090000
DTEND;TZID=Europe/Berlin:20251126T173000
DTSTAMP:20260422T121729
CREATED:20250722T131959Z
LAST-MODIFIED:20250722T131959Z
UID:987520939-1764147600-1764178200@prooh2v.net
SUMMARY:energate forum | Energieinfrastruktur im Wandel Netztransformation zwischen Ambition und Umsetzung
DESCRIPTION:Ob Strom\, Gas\, Wasserstoff oder Wärme – die Netze sind das Rückgrat der Energietransformation. Doch hinter jeder einzelnen Infrastruktur stehen zentrale Fragen: Wie viele neue Stromtrassen brauchen wir wirklich? Kommt der Wasserstoffhochlauf in der Praxis an? Wie lange bleiben Gasnetze relevant? Und können Wärmenetze die Erwartungen an die Wärmewende erfüllen? \nDer Aus- und Umbau der Energienetze erfordert enorme Investitionen\, attraktive Finanzierungsbedingungen und einen verlässlichen Regulierungsrahmen\, der privates Kapital anzieht. Gleichzeitig braucht es klare politische Flankierung\, damit die Energiewende für Verbraucher*innen und Unternehmen bezahlbar bleibt. \nWie wird aus ambitionierter Planung funktionierende Infrastruktur? Wer trägt die Kosten – und wie sichern wir Versorgung und Bezahlbarkeit in einem sich wandelnden Energiesystem? \nDiese und weitere Fragen diskutieren wir beim energate forum „Energieinfrastruktur im Wandel“ am 26. November 2025 in Berlin. Netzbetreiber\, Versorger\, Regulierer\, Politik\, Verbände und Dienstleister kommen zusammen – zum offenen Austausch über die Zukunft unserer Energieinfrastruktur \nBeim energate forum treffen sich Entscheidungsträger:innen aus allen Bereichen der Energiebranche und dort tätiger Unternehmen und Behörden. Wir liefern politische Einordnung und geben Fach- und Führungskräften Orientierung\, um die richtigen Entscheidungen für ihr Business zu treffen.
URL:https://prooh2v.net/event/energate-forum-energieinfrastruktur-im-wandel-netztransformation-zwischen-ambition-und-umsetzung/
LOCATION:Humboldtcarré Berlin\, Behrenstr. 42\, Berlin\, Berlin\, 10117
ATTACH;FMTTYPE=image/png:https://prooh2v.net/wp-content/uploads/2025/07/Bildschirmfoto-2025-07-22-um-15.13.06.png
END:VEVENT
BEGIN:VEVENT
DTSTART;TZID=Europe/Berlin:20251126T093000
DTEND;TZID=Europe/Berlin:20251126T170000
DTSTAMP:20260422T121729
CREATED:20251006T065038Z
LAST-MODIFIED:20251006T065038Z
UID:987521103-1764149400-1764176400@prooh2v.net
SUMMARY:3. Norddeutsche Wasserstoffkonferenz (NDWK)
DESCRIPTION:Die NDWK ist die zentrale Plattform für den norddeutschen Wasserstoffdialog – mit starken Impulsen aus Politik\, Wirtschaft und Forschung. Nach den erfolgreichen Veranstaltungen in Cuxhaven (2023) und Hamburg (2024) wird das Format in diesem Jahr in Mecklenburg-Vorpommern fortgeführt. \nDie Programm-Highlights: \n\nGrußwort: Patrick Dahlemann\, Chef der Staatskanzlei Mecklenburg-Vorpommern\nKeynote: Dr. Felix Matthes\, Forschungskoordinator für Energie- und Klimapolitik am Öko-Institut und Mitglied des Nationalen Wasserstoffrates\n\n\nDiskussionspanel: Politik & Umsetzung – Was braucht es jetzt?\nMit u. a. Christian Meyer (Nds. Umwelt- und Energieminister)\, Joschka Knuth (Staatssekretär Energiewende SH) und Ines Jesse (Staatssekretärin Wirtschaft MV)\nSowie zwei weitere Panel: Norddeutschland liefert – Projektstatus & Learnings &\n\nIndustrie\, Know-how\, Perspektiven – Wie bleibt Norddeutschland Innovationsstandort? \nDie ausführliche Agenda entnehmen Sie bitte dem Anhang. \nJetzt anmelden: Zur Anmeldung 👈 \nEinen Rückblick auf die letzte Konferenz finden Sie hier: 2. Norddeutsche Wasserstoff-Konferenz – wasserstoff-niedersachsen.de \nWir freuen uns auf Ihre Teilnahme und den Austausch in Rostock!
URL:https://prooh2v.net/event/3-norddeutsche-wasserstoffkonferenz-ndwk/
LOCATION:Rotunde Hansamesse\, Zur Hansemesse 1\, Rostock\, 18106
ATTACH;FMTTYPE=image/png:https://prooh2v.net/wp-content/uploads/2025/10/Bildschirmfoto-2025-10-06-um-08.38.49.png
END:VEVENT
BEGIN:VEVENT
DTSTART;TZID=Europe/Berlin:20251127T170000
DTEND;TZID=Europe/Berlin:20251127T190000
DTSTAMP:20260422T121729
CREATED:20251103T104541Z
LAST-MODIFIED:20251103T104541Z
UID:987521143-1764262800-1764270000@prooh2v.net
SUMMARY:Einladung zur  Bürger-Info-Veranstaltung
DESCRIPTION:Es wird viel berichtet über Balkon-PV-Kraftwerke\, über immer mehr Windkraftanlagen\, über den Ausstieg aus der Kohle und den Einstieg in Wasserstoff. Aber wie die Energiewende eigentlich funktionieren soll\, wird kaum erklärt. Dabei betreffen die Veränderungen bei der Energieversorgung auch ganz wesentlich unsere Region. Der Nordwesten Brandenburgs ist geprägt von erneuerbaren Energien. Bislang profitiert die Bevölkerung davon aber noch nicht merklich. \nDeswegen möchten wir mehr Klarheit in dieses Energie-Wirrwarr bringen\, möchten informieren über die Vor- und Nachteile von Elektroautos sowie Brennstoffzellenbussen und klären\, ob beispielsweise Stahlwerke mit Wasserstoff betrieben werden können oder sich Anwohnende beispielsweise an regionalen Wind-Wasserstoff-Projekten beteiligen können. \nDie REG Regionalentwicklungsgesellschaft Nordwestbrandenburg mbH lädt gemeinsam mit dem Reiner-Lemoine-Institut\, Hydrogeit Verlag und PROOH2V e.V. zu dieser kostenlosen Bürger-Informationsveranstaltung ein. \nNutzen Sie die Gelegenheit\, um Fragen zu stellen\, Informationen einzuholen und sich ein eigenes – vielleicht neues Bild – von der Energiewende zu machen. \nGerne Fragen und auch Freunde mitbringen. \nMit freundlichen Grüßen \nSven Geitmann
URL:https://prooh2v.net/event/einladung-zur-buerger-info-veranstaltung/
LOCATION:KreativwerkR6\, Rathenaustr. 6\, Hennigsdorf\, Brandenburg\, 16761\, Germany
ATTACH;FMTTYPE=image/jpeg:https://prooh2v.net/wp-content/uploads/2025/11/hydrogen-storage-text.jpg
END:VEVENT
BEGIN:VEVENT
DTSTART;TZID=Europe/Berlin:20251128T090000
DTEND;TZID=Europe/Berlin:20251128T140000
DTSTAMP:20260422T121729
CREATED:20251107T120134Z
LAST-MODIFIED:20251124T113504Z
UID:987521165-1764320400-1764338400@prooh2v.net
SUMMARY:ABSAGE - Exkursion Gasitech - Hüffermann
DESCRIPTION:EXKURSION IST ABGESAGT! \n  \nFREITAG\, 28.11.2025 \n9 – 11 UHR GASITECH\n12 – 14 UHR HÜFFERMANN \nFÜR ALLE NETZWERKMITGLIEDER UND INTERESSIERTE PERSONEN \nIn der Wasserstoff Wertschöpfungskette spielt die Speicherung und der Transport eine große Rolle. Gasitech ist auf die Speicherung in Gasflaschen aus Stahl oder Verbund-werkstoffen spezialisiert bei Hüffermann werden dazu die speziellen Transportsysteme gebaut\, überholt und geprüft. \nEinladung Exkursion GasitechHüffermann (1)
URL:https://prooh2v.net/event/exkursion-gasitech-hueffermann/
LOCATION:Gasitech\, Am Heideberg 1A\, Walsleben\, Brandenburg\, 16818\, Germany
ATTACH;FMTTYPE=image/png:https://prooh2v.net/wp-content/uploads/2025/11/Bildschirmfoto-2025-11-07-um-12.56.37.png
ORGANIZER;CN="PROOH2V e.V.":MAILTO:info@prooh2v.net
END:VEVENT
END:VCALENDAR