BEGIN:VCALENDAR
VERSION:2.0
PRODID:-//PROOH2V | Das Wasserstoff Netzwerk - ECPv6.15.20//NONSGML v1.0//EN
CALSCALE:GREGORIAN
METHOD:PUBLISH
X-ORIGINAL-URL:https://prooh2v.net
X-WR-CALDESC:Veranstaltungen für PROOH2V | Das Wasserstoff Netzwerk
REFRESH-INTERVAL;VALUE=DURATION:PT1H
X-Robots-Tag:noindex
X-PUBLISHED-TTL:PT1H
BEGIN:VTIMEZONE
TZID:Europe/Berlin
BEGIN:DAYLIGHT
TZOFFSETFROM:+0100
TZOFFSETTO:+0200
TZNAME:CEST
DTSTART:20240331T010000
END:DAYLIGHT
BEGIN:STANDARD
TZOFFSETFROM:+0200
TZOFFSETTO:+0100
TZNAME:CET
DTSTART:20241027T010000
END:STANDARD
BEGIN:DAYLIGHT
TZOFFSETFROM:+0100
TZOFFSETTO:+0200
TZNAME:CEST
DTSTART:20250330T010000
END:DAYLIGHT
BEGIN:STANDARD
TZOFFSETFROM:+0200
TZOFFSETTO:+0100
TZNAME:CET
DTSTART:20251026T010000
END:STANDARD
BEGIN:DAYLIGHT
TZOFFSETFROM:+0100
TZOFFSETTO:+0200
TZNAME:CEST
DTSTART:20260329T010000
END:DAYLIGHT
BEGIN:STANDARD
TZOFFSETFROM:+0200
TZOFFSETTO:+0100
TZNAME:CET
DTSTART:20261025T010000
END:STANDARD
END:VTIMEZONE
BEGIN:VEVENT
DTSTART;TZID=Europe/Berlin:20251127T170000
DTEND;TZID=Europe/Berlin:20251127T190000
DTSTAMP:20260422T135235
CREATED:20251103T104541Z
LAST-MODIFIED:20251103T104541Z
UID:987521143-1764262800-1764270000@prooh2v.net
SUMMARY:Einladung zur  Bürger-Info-Veranstaltung
DESCRIPTION:Es wird viel berichtet über Balkon-PV-Kraftwerke\, über immer mehr Windkraftanlagen\, über den Ausstieg aus der Kohle und den Einstieg in Wasserstoff. Aber wie die Energiewende eigentlich funktionieren soll\, wird kaum erklärt. Dabei betreffen die Veränderungen bei der Energieversorgung auch ganz wesentlich unsere Region. Der Nordwesten Brandenburgs ist geprägt von erneuerbaren Energien. Bislang profitiert die Bevölkerung davon aber noch nicht merklich. \nDeswegen möchten wir mehr Klarheit in dieses Energie-Wirrwarr bringen\, möchten informieren über die Vor- und Nachteile von Elektroautos sowie Brennstoffzellenbussen und klären\, ob beispielsweise Stahlwerke mit Wasserstoff betrieben werden können oder sich Anwohnende beispielsweise an regionalen Wind-Wasserstoff-Projekten beteiligen können. \nDie REG Regionalentwicklungsgesellschaft Nordwestbrandenburg mbH lädt gemeinsam mit dem Reiner-Lemoine-Institut\, Hydrogeit Verlag und PROOH2V e.V. zu dieser kostenlosen Bürger-Informationsveranstaltung ein. \nNutzen Sie die Gelegenheit\, um Fragen zu stellen\, Informationen einzuholen und sich ein eigenes – vielleicht neues Bild – von der Energiewende zu machen. \nGerne Fragen und auch Freunde mitbringen. \nMit freundlichen Grüßen \nSven Geitmann
URL:https://prooh2v.net/event/einladung-zur-buerger-info-veranstaltung/
LOCATION:KreativwerkR6\, Rathenaustr. 6\, Hennigsdorf\, Brandenburg\, 16761\, Germany
ATTACH;FMTTYPE=image/jpeg:https://prooh2v.net/wp-content/uploads/2025/11/hydrogen-storage-text.jpg
END:VEVENT
END:VCALENDAR