BEGIN:VCALENDAR
VERSION:2.0
PRODID:-//PROOH2V | Das Wasserstoff Netzwerk - ECPv6.15.20//NONSGML v1.0//EN
CALSCALE:GREGORIAN
METHOD:PUBLISH
X-ORIGINAL-URL:https://prooh2v.net
X-WR-CALDESC:Veranstaltungen für PROOH2V | Das Wasserstoff Netzwerk
REFRESH-INTERVAL;VALUE=DURATION:PT1H
X-Robots-Tag:noindex
X-PUBLISHED-TTL:PT1H
BEGIN:VTIMEZONE
TZID:Europe/Berlin
BEGIN:DAYLIGHT
TZOFFSETFROM:+0100
TZOFFSETTO:+0200
TZNAME:CEST
DTSTART:20240331T010000
END:DAYLIGHT
BEGIN:STANDARD
TZOFFSETFROM:+0200
TZOFFSETTO:+0100
TZNAME:CET
DTSTART:20241027T010000
END:STANDARD
BEGIN:DAYLIGHT
TZOFFSETFROM:+0100
TZOFFSETTO:+0200
TZNAME:CEST
DTSTART:20250330T010000
END:DAYLIGHT
BEGIN:STANDARD
TZOFFSETFROM:+0200
TZOFFSETTO:+0100
TZNAME:CET
DTSTART:20251026T010000
END:STANDARD
BEGIN:DAYLIGHT
TZOFFSETFROM:+0100
TZOFFSETTO:+0200
TZNAME:CEST
DTSTART:20260329T010000
END:DAYLIGHT
BEGIN:STANDARD
TZOFFSETFROM:+0200
TZOFFSETTO:+0100
TZNAME:CET
DTSTART:20261025T010000
END:STANDARD
END:VTIMEZONE
BEGIN:VEVENT
DTSTART;TZID=Europe/Berlin:20251119T160000
DTEND;TZID=Europe/Berlin:20251119T180000
DTSTAMP:20260422T135245
CREATED:20250617T112906Z
LAST-MODIFIED:20251006T065513Z
UID:987520776-1763568000-1763575200@prooh2v.net
SUMMARY:PROOH2V Netzwerktreffen in Falkensee
DESCRIPTION:Sehr geehrte Damen und Herren\, \nhiermit lädt herzlich das Wasserstoffnetzwerk PROOH2V zusammen mit der Bürgerinitiative „Wasserstoff – Neue Energie für Falkensee“ zu einem neuen Netzwerktreffen ein. Gerne können im Vorfeld eigene Punkte eingebracht werden. \nOrt: Musiksaalgebäude am Gutspark\, Am Gutspark 4\, 14612 Falkensee\n(Das Gebäude ist über die Straße am Gutspark oder über die Scharenbergstraße zu erreichen.) \nTOP: \n\nBegrüßung und Vorstellungsrunde\nBericht aus dem PROOH2V Netzwerk\nBericht Interreg Central Europe H2CE/ RLI Studie (Projektlaufzeit bis März 2026)\nHerr Dr. Reiß (MWAEK) berichtet für die Landesregierung\nHyExpert Studie HVL Was wurde daraus?\nDiskussion und Austausch\n\nMit freundlichen Grüßen \nJan Gühne \ni.A. Vorstand PROOH2V e.V. \nEinladung Netzwerktreffen 19.11.2025\, Falkensee
URL:https://prooh2v.net/event/save-the-date-prooh2v-netzwerktreffen-in-falkensee/
LOCATION:Musiksaalgebäude Falkensee\, Am Gutspark 4\, Falkensee\, 14612
ATTACH;FMTTYPE=image/png:https://prooh2v.net/wp-content/uploads/2025/06/Bildschirmfoto-2025-10-06-um-08.54.45.png
END:VEVENT
END:VCALENDAR