BEGIN:VCALENDAR
VERSION:2.0
PRODID:-//PROOH2V | Das Wasserstoff Netzwerk - ECPv6.15.20//NONSGML v1.0//EN
CALSCALE:GREGORIAN
METHOD:PUBLISH
X-WR-CALNAME:PROOH2V | Das Wasserstoff Netzwerk
X-ORIGINAL-URL:https://prooh2v.net
X-WR-CALDESC:Veranstaltungen für PROOH2V | Das Wasserstoff Netzwerk
REFRESH-INTERVAL;VALUE=DURATION:PT1H
X-Robots-Tag:noindex
X-PUBLISHED-TTL:PT1H
BEGIN:VTIMEZONE
TZID:Europe/Berlin
BEGIN:DAYLIGHT
TZOFFSETFROM:+0100
TZOFFSETTO:+0200
TZNAME:CEST
DTSTART:20240331T010000
END:DAYLIGHT
BEGIN:STANDARD
TZOFFSETFROM:+0200
TZOFFSETTO:+0100
TZNAME:CET
DTSTART:20241027T010000
END:STANDARD
BEGIN:DAYLIGHT
TZOFFSETFROM:+0100
TZOFFSETTO:+0200
TZNAME:CEST
DTSTART:20250330T010000
END:DAYLIGHT
BEGIN:STANDARD
TZOFFSETFROM:+0200
TZOFFSETTO:+0100
TZNAME:CET
DTSTART:20251026T010000
END:STANDARD
BEGIN:DAYLIGHT
TZOFFSETFROM:+0100
TZOFFSETTO:+0200
TZNAME:CEST
DTSTART:20260329T010000
END:DAYLIGHT
BEGIN:STANDARD
TZOFFSETFROM:+0200
TZOFFSETTO:+0100
TZNAME:CET
DTSTART:20261025T010000
END:STANDARD
END:VTIMEZONE
BEGIN:VEVENT
DTSTART;TZID=Europe/Berlin:20251008T190000
DTEND;TZID=Europe/Berlin:20251008T203000
DTSTAMP:20260422T151634
CREATED:20251006T073409Z
LAST-MODIFIED:20251006T073444Z
UID:987521114-1759950000-1759955400@prooh2v.net
SUMMARY:Themenabend Energiewende und Wasserstoff
DESCRIPTION:Bereits unter der Regierung Merkel wurde 2020 eine Nationale Wasserstoffstrategie beschlossen und seit Ende\n2024 ist das Wasserstoffkernnetz auf dem Weg gebracht und im Bau. Auch\nBrandenburg hat eine eigene Wasserstoffstrategie und sogar für unsere\nLandkreise im Nordwesten Brandenburgs gibt es eine eigene Potenzialstudie für die Wasserstoffwirtschaft.\nWelche Vorgaben und Ziele hat die Politik für den Energieträger Wasserstoff beschlossen und wo stehen wir jetzt?\nEs soll an diesem Themenabend um eine Einführung in die Wasserstoffwelt gehen und vor welchen Herausforderungen unsere \nGesellschaft bei der Dekarbonisierung steht. Wo liegen die Chancen und Grenzen des Energieträgers Wasserstoff?\nNach der Einführungspräsentation soll es ausdrücklich Raum für Diskussion und Austausch geben. \nSteffi Hagemann (Sprecherin Hohen Neuendorf) und Jan Gühne (PROOH2V e.V.) \nEinladung Themenabend Wasserstoff\, KV Bündnis 90Die Grünen Oberhavel 08.10.25
URL:https://prooh2v.net/event/themenabend-energiewende-und-wasserstoff-2/
LOCATION:Kreisbüro BÜNDNIS 90/DIE GRÜNEN Oberhavel\, Sachsenhausener Str. 1a\, Oranienburg\, 16515
ATTACH;FMTTYPE=image/png:https://prooh2v.net/wp-content/uploads/2025/09/Bildschirmfoto-2025-09-15-um-13.06.07.png
END:VEVENT
END:VCALENDAR