BEGIN:VCALENDAR
VERSION:2.0
PRODID:-//PROOH2V | Das Wasserstoff Netzwerk - ECPv6.15.20//NONSGML v1.0//EN
CALSCALE:GREGORIAN
METHOD:PUBLISH
X-WR-CALNAME:PROOH2V | Das Wasserstoff Netzwerk
X-ORIGINAL-URL:https://prooh2v.net
X-WR-CALDESC:Veranstaltungen für PROOH2V | Das Wasserstoff Netzwerk
REFRESH-INTERVAL;VALUE=DURATION:PT1H
X-Robots-Tag:noindex
X-PUBLISHED-TTL:PT1H
BEGIN:VTIMEZONE
TZID:Europe/Berlin
BEGIN:DAYLIGHT
TZOFFSETFROM:+0100
TZOFFSETTO:+0200
TZNAME:CEST
DTSTART:20240331T010000
END:DAYLIGHT
BEGIN:STANDARD
TZOFFSETFROM:+0200
TZOFFSETTO:+0100
TZNAME:CET
DTSTART:20241027T010000
END:STANDARD
BEGIN:DAYLIGHT
TZOFFSETFROM:+0100
TZOFFSETTO:+0200
TZNAME:CEST
DTSTART:20250330T010000
END:DAYLIGHT
BEGIN:STANDARD
TZOFFSETFROM:+0200
TZOFFSETTO:+0100
TZNAME:CET
DTSTART:20251026T010000
END:STANDARD
BEGIN:DAYLIGHT
TZOFFSETFROM:+0100
TZOFFSETTO:+0200
TZNAME:CEST
DTSTART:20260329T010000
END:DAYLIGHT
BEGIN:STANDARD
TZOFFSETFROM:+0200
TZOFFSETTO:+0100
TZNAME:CET
DTSTART:20261025T010000
END:STANDARD
END:VTIMEZONE
BEGIN:VEVENT
DTSTART;TZID=Europe/Berlin:20250923T090000
DTEND;TZID=Europe/Berlin:20250925T170000
DTSTAMP:20260422T164828
CREATED:20250806T112801Z
LAST-MODIFIED:20250806T113328Z
UID:987520959-1758618000-1758819600@prooh2v.net
SUMMARY:Beyond Gas
DESCRIPTION:Erleben auch Sie Meinungsbildende Impulse und State-of-the-Art-Lösungen für die Wasserstoffwirtschaft. Hier treffen sich führende Köpfe\, um Innovationen zu fördern und Kooperationen zu stärken\, die den globalen Einsatz von Wasserstoff beschleunigen. Begleitet von inspirierenden Keynotes\, interaktiven Panels und Networking-Möglichkeiten gestalten Sie aktiv eine nachhaltige Zukunft und werden Sie Teil der byd-Community!
URL:https://prooh2v.net/event/beyond-gas/
LOCATION:Schloss Oldenburg\, Schlossplatz 1\, Oldenburg\, Niedersachsen\, 26122\, Germany
ATTACH;FMTTYPE=image/png:https://prooh2v.net/wp-content/uploads/2025/08/Bildschirmfoto-2025-08-06-um-12.21.23.png
END:VEVENT
END:VCALENDAR