BEGIN:VCALENDAR
VERSION:2.0
PRODID:-//PROOH2V | Das Wasserstoff Netzwerk - ECPv6.15.20//NONSGML v1.0//EN
CALSCALE:GREGORIAN
METHOD:PUBLISH
X-WR-CALNAME:PROOH2V | Das Wasserstoff Netzwerk
X-ORIGINAL-URL:https://prooh2v.net
X-WR-CALDESC:Veranstaltungen für PROOH2V | Das Wasserstoff Netzwerk
REFRESH-INTERVAL;VALUE=DURATION:PT1H
X-Robots-Tag:noindex
X-PUBLISHED-TTL:PT1H
BEGIN:VTIMEZONE
TZID:Europe/Berlin
BEGIN:DAYLIGHT
TZOFFSETFROM:+0100
TZOFFSETTO:+0200
TZNAME:CEST
DTSTART:20240331T010000
END:DAYLIGHT
BEGIN:STANDARD
TZOFFSETFROM:+0200
TZOFFSETTO:+0100
TZNAME:CET
DTSTART:20241027T010000
END:STANDARD
BEGIN:DAYLIGHT
TZOFFSETFROM:+0100
TZOFFSETTO:+0200
TZNAME:CEST
DTSTART:20250330T010000
END:DAYLIGHT
BEGIN:STANDARD
TZOFFSETFROM:+0200
TZOFFSETTO:+0100
TZNAME:CET
DTSTART:20251026T010000
END:STANDARD
BEGIN:DAYLIGHT
TZOFFSETFROM:+0100
TZOFFSETTO:+0200
TZNAME:CEST
DTSTART:20260329T010000
END:DAYLIGHT
BEGIN:STANDARD
TZOFFSETFROM:+0200
TZOFFSETTO:+0100
TZNAME:CET
DTSTART:20261025T010000
END:STANDARD
END:VTIMEZONE
BEGIN:VEVENT
DTSTART;TZID=Europe/Berlin:20250909T080000
DTEND;TZID=Europe/Berlin:20250912T170000
DTSTAMP:20260424T121517
CREATED:20250806T120650Z
LAST-MODIFIED:20250806T121010Z
UID:987520973-1757404800-1757696400@prooh2v.net
SUMMARY:Gastech Exhibition and Conference - Milan\, Italy
DESCRIPTION:Unlocking the transformative power of hydrogen\n\nHydrogen is driving the transition to net zero—powering cleaner industries\, reducing emissions\, and enabling renewable integration. At Gastech Hydrogen\, attendees can see the latest innovations in low-carbon production\, storage\, and transport\, and connect with leading suppliers\, developers\, and policy experts. \nWhether you’re looking to invest\, partner\, or learn\, Gastech Hydrogen offers unmatched insight into the fast-evolving hydrogen economy. \nJoin us to power a cleaner energy future.
URL:https://prooh2v.net/event/gastech-exhibition-and-conference-milan-italy/
LOCATION:Feries Milano
ATTACH;FMTTYPE=image/png:https://prooh2v.net/wp-content/uploads/2025/08/Bildschirmfoto-2025-08-06-um-14.01.15.png
END:VEVENT
BEGIN:VEVENT
DTSTART;TZID=Europe/Berlin:20250912T140000
DTEND;TZID=Europe/Berlin:20250912T160000
DTSTAMP:20260424T121517
CREATED:20250819T075242Z
LAST-MODIFIED:20250903T063039Z
UID:987520991-1757685600-1757692800@prooh2v.net
SUMMARY:Einladung Exkursion Stoff2- Elektrolyseur und Speicher in einem System
DESCRIPTION:Die STOFF2 GmbH entwickelt die Zink-Zwischenschritt-Elektrolyse (ZZE)\, eine Technologie zur flexiblen und wirtschaftlichen Erzeugung von grünem Wasserstoff aus erneuerbaren Energien. Die ZZE kann fluktuierenden Strom netzdienlich aufnehmen\, zwischenspeichern und bedarfsgerecht in Wasserstoff umwandeln – mit Vorteilen in Versorgungssicherheit\, Effizienz und Lastflexibilität gegenüber konventionellen Elektrolyseverfahren. \nANMELDUNG \nWir bitten um eine Anmeldung\nper Mail bis zum 03.09.2025\njan.guehne@prooh2v.net \nEinladung Führung Elektrolyseur Stoff2
URL:https://prooh2v.net/event/einladung-exkursion-stoff2-elektrolyseur-und-speicher-in-einem-system/
LOCATION:Stoff2 GmbH\, Gebäude H / Flughafen Tegel 1\, Berlin\, 13405
ATTACH;FMTTYPE=image/png:https://prooh2v.net/wp-content/uploads/2025/08/Bildschirmfoto-2025-08-20-um-09.16.26.png
ORGANIZER;CN="PROOH2V e.V.":MAILTO:info@prooh2v.net
END:VEVENT
END:VCALENDAR