BEGIN:VCALENDAR
VERSION:2.0
PRODID:-//PROOH2V | Das Wasserstoff Netzwerk - ECPv6.15.20//NONSGML v1.0//EN
CALSCALE:GREGORIAN
METHOD:PUBLISH
X-WR-CALNAME:PROOH2V | Das Wasserstoff Netzwerk
X-ORIGINAL-URL:https://prooh2v.net
X-WR-CALDESC:Veranstaltungen für PROOH2V | Das Wasserstoff Netzwerk
REFRESH-INTERVAL;VALUE=DURATION:PT1H
X-Robots-Tag:noindex
X-PUBLISHED-TTL:PT1H
BEGIN:VTIMEZONE
TZID:Europe/Berlin
BEGIN:DAYLIGHT
TZOFFSETFROM:+0100
TZOFFSETTO:+0200
TZNAME:CEST
DTSTART:20240331T010000
END:DAYLIGHT
BEGIN:STANDARD
TZOFFSETFROM:+0200
TZOFFSETTO:+0100
TZNAME:CET
DTSTART:20241027T010000
END:STANDARD
BEGIN:DAYLIGHT
TZOFFSETFROM:+0100
TZOFFSETTO:+0200
TZNAME:CEST
DTSTART:20250330T010000
END:DAYLIGHT
BEGIN:STANDARD
TZOFFSETFROM:+0200
TZOFFSETTO:+0100
TZNAME:CET
DTSTART:20251026T010000
END:STANDARD
BEGIN:DAYLIGHT
TZOFFSETFROM:+0100
TZOFFSETTO:+0200
TZNAME:CEST
DTSTART:20260329T010000
END:DAYLIGHT
BEGIN:STANDARD
TZOFFSETFROM:+0200
TZOFFSETTO:+0100
TZNAME:CET
DTSTART:20261025T010000
END:STANDARD
END:VTIMEZONE
BEGIN:VEVENT
DTSTART;TZID=Europe/Berlin:20250911T100000
DTEND;TZID=Europe/Berlin:20250911T150000
DTSTAMP:20260422T165327
CREATED:20250722T083028Z
LAST-MODIFIED:20250807T074913Z
UID:987520933-1757584800-1757602800@prooh2v.net
SUMMARY:Fachgespräch zum INTERREG-Projekt H2CE – Wasserstoff als Bestandteil regionaler Energieplanung in Brandenburg und Mitteleuropa
DESCRIPTION:Zusammen mit der IHK Potsdam lädt Sie die Gemeinsame Landesplanungsabteilung Berlin-Brandenburg als Lead Partner des Projekts „H2CE – H2-fähige Regionen in Mitteleuropa stärken“ herzlich zu einem Fachgespräch zum Thema „Wasserstoff als Bestandteil regionaler Energieplanung“ ein. Das Fachgespräch findet im Rahmen der Projektaktivitäten des INTERREG-Projekts „H2CE – H2-fähige Regionen in Mitteleuropa stärken“ statt. \nDie Gemeinsame Landesplanungsabteilung Berlin-Brandenburg ist Lead Partner des Projekts H2CE. Zusammen mit regionalen Brandenburger Partnern erarbeiten sie in diesem dreijährigen Projekt in einem transnationalen Konsortium aus neun weiteren Ländern einen Werkzeugkasten\, wie Regionen das Thema Wasserstoff in ihre Energieplanung einbringen können. Das Gespräch bietet die Möglichkeit\, sich mit Brandenburger Akteuren des Projekts H2CE auszutauschen und über Wasserstoff als Bestandteil regionaler Energiesysteme zu diskutieren. \nWeitere Informationen entnehmen Sie bitte der Anmeldeseite. \nMit freundlichen Grüßen \nPedro Brosei\nProjektkoordinator H2CE
URL:https://prooh2v.net/event/fachgespraech-zum-interreg-projekt-h2ce-wasserstoff-als-bestandteil-regionaler-energieplanung-in-brandenburg-und-mitteleuropa/
LOCATION:IHK Potsdam\, Breite Straße 2 a-c\, Potsdam\, Brandenburg\, 14467\, Germany
ATTACH;FMTTYPE=image/png:https://prooh2v.net/wp-content/uploads/2025/07/Bildschirmfoto-2025-07-22-um-10.30.03.png
END:VEVENT
END:VCALENDAR