BEGIN:VCALENDAR
VERSION:2.0
PRODID:-//PROOH2V | Das Wasserstoff Netzwerk - ECPv6.15.20//NONSGML v1.0//EN
CALSCALE:GREGORIAN
METHOD:PUBLISH
X-WR-CALNAME:PROOH2V | Das Wasserstoff Netzwerk
X-ORIGINAL-URL:https://prooh2v.net
X-WR-CALDESC:Veranstaltungen für PROOH2V | Das Wasserstoff Netzwerk
REFRESH-INTERVAL;VALUE=DURATION:PT1H
X-Robots-Tag:noindex
X-PUBLISHED-TTL:PT1H
BEGIN:VTIMEZONE
TZID:Europe/Berlin
BEGIN:DAYLIGHT
TZOFFSETFROM:+0100
TZOFFSETTO:+0200
TZNAME:CEST
DTSTART:20240331T010000
END:DAYLIGHT
BEGIN:STANDARD
TZOFFSETFROM:+0200
TZOFFSETTO:+0100
TZNAME:CET
DTSTART:20241027T010000
END:STANDARD
BEGIN:DAYLIGHT
TZOFFSETFROM:+0100
TZOFFSETTO:+0200
TZNAME:CEST
DTSTART:20250330T010000
END:DAYLIGHT
BEGIN:STANDARD
TZOFFSETFROM:+0200
TZOFFSETTO:+0100
TZNAME:CET
DTSTART:20251026T010000
END:STANDARD
BEGIN:DAYLIGHT
TZOFFSETFROM:+0100
TZOFFSETTO:+0200
TZNAME:CEST
DTSTART:20260329T010000
END:DAYLIGHT
BEGIN:STANDARD
TZOFFSETFROM:+0200
TZOFFSETTO:+0100
TZNAME:CET
DTSTART:20261025T010000
END:STANDARD
END:VTIMEZONE
BEGIN:VEVENT
DTSTART;TZID=Europe/Berlin:20251017T130000
DTEND;TZID=Europe/Berlin:20251017T143000
DTSTAMP:20260422T151918
CREATED:20250814T130809Z
LAST-MODIFIED:20250916T123715Z
UID:987520983-1760706000-1760711400@prooh2v.net
SUMMARY:Exkursion PEM Stack Produktion Siemens Energy
DESCRIPTION:Siemens Energy hat eine lange Produktionstradition für Dampf- und Gasturbinen am Standort Huttenstr. in Berlin-Moabit.\nEs werden dort die größten Gasturbinen der Welt zusammengebaut und über die nahe Spree verschifft. Nun gibt es neu eine Halle für\ndie Produktion der Stacks – der Herzstücke eines Elektrolyseurs (schwarzer Kasten im\nHintergrund). Mit Strom und Wasser entstehen dort Wasserstoff und Sauerstoff\, die getrennt\nvon einander abgeführt werden. Der komplette Elektroyseur wird an anderen Standorten weiter\nvormontiert und per Baukastensystem am Einsatzort aufgebaut. \nANMELDUNG \nWir bitten um eine Anmeldung\nper Mail bis zum 03.10.2025\njan.guehne@prooh2v.net \nEinladung Exkursion PEM Stack Produktion Siemens Energy
URL:https://prooh2v.net/event/exkursion-pem-stack-produktion-siemens-energy/
LOCATION:Siemens Energy\, Huttenstr. 12\, Berlin\, Berlin\, 10553
ATTACH;FMTTYPE=image/png:https://prooh2v.net/wp-content/uploads/2025/08/Bildschirmfoto-2025-08-19-um-09.41.05.png
ORGANIZER;CN="PROOH2V e.V.":MAILTO:info@prooh2v.net
END:VEVENT
END:VCALENDAR