BEGIN:VCALENDAR
VERSION:2.0
PRODID:-//PROOH2V | Das Wasserstoff Netzwerk - ECPv6.15.20//NONSGML v1.0//EN
CALSCALE:GREGORIAN
METHOD:PUBLISH
X-WR-CALNAME:PROOH2V | Das Wasserstoff Netzwerk
X-ORIGINAL-URL:https://prooh2v.net
X-WR-CALDESC:Veranstaltungen für PROOH2V | Das Wasserstoff Netzwerk
REFRESH-INTERVAL;VALUE=DURATION:PT1H
X-Robots-Tag:noindex
X-PUBLISHED-TTL:PT1H
BEGIN:VTIMEZONE
TZID:Europe/Berlin
BEGIN:DAYLIGHT
TZOFFSETFROM:+0100
TZOFFSETTO:+0200
TZNAME:CEST
DTSTART:20240331T010000
END:DAYLIGHT
BEGIN:STANDARD
TZOFFSETFROM:+0200
TZOFFSETTO:+0100
TZNAME:CET
DTSTART:20241027T010000
END:STANDARD
BEGIN:DAYLIGHT
TZOFFSETFROM:+0100
TZOFFSETTO:+0200
TZNAME:CEST
DTSTART:20250330T010000
END:DAYLIGHT
BEGIN:STANDARD
TZOFFSETFROM:+0200
TZOFFSETTO:+0100
TZNAME:CET
DTSTART:20251026T010000
END:STANDARD
BEGIN:DAYLIGHT
TZOFFSETFROM:+0100
TZOFFSETTO:+0200
TZNAME:CEST
DTSTART:20260329T010000
END:DAYLIGHT
BEGIN:STANDARD
TZOFFSETFROM:+0200
TZOFFSETTO:+0100
TZNAME:CET
DTSTART:20261025T010000
END:STANDARD
END:VTIMEZONE
BEGIN:VEVENT
DTSTART;TZID=Europe/Berlin:20250909T100000
DTEND;TZID=Europe/Berlin:20250909T120000
DTSTAMP:20260422T165329
CREATED:20250826T131738Z
LAST-MODIFIED:20250826T131738Z
UID:987521012-1757412000-1757419200@prooh2v.net
SUMMARY:Die Netzentwicklungsplanung Strom und Gas/Wasserstoff in der Lausitz –  Fachimpuls und Podiumsdiskussion mit Herrn Müller\, Präsident der Bundesnetzagentur
DESCRIPTION:10:00 Uhr                          Grußworte \n\nHerr Krause\, Generalmanager & Stabstellenleiter Strukturwandel/ Infrastruktur und Verkehr IHK Cottbus\nHerr Jahn\, Geschäftsführer Wirtschaftsregion Lausitz GmbH\n\n10:05 Uhr                          Begrüßung und kurzer Fachimpuls \n\nHerr Müller\, Präsident Bundesnetzagentur\n\n10:25 Uhr                          Begrüßung und Einleitung in die Podiumssitzung \n\nHerr Fritsche\, Hauptgeschäftsführer IHK Cottbus\nHerr Prof. Ragwitz\, Leiter Fraunhofer IEG\n\n10:35 Uhr                          Podiumsdiskussion und Rückfragen aus dem Publikum \nModeratoren: \n\nHerr Fritsche\, Hauptgeschäftsführer IHK Cottbus\nHerr Prof. Ragwitz\, Leiter Fraunhofer IEG\n\nDiskutanten: \n\nHerr Müller\, Präsident Bundesnetzagentur\nHerr Beckmann\, Leiter Recht bei ENERTRAG SE\nHerr Krüger\, Amtsdirektor Peitz\nHerr Dr. Lowis\, Vorstandsvorsitzender EnviaM\nHerr Merker\, Vorstand Finanzen LEAG\nHerr Dr. Schüppel\, Geschäftsführer RefLau\n\n11:55 Uhr                          Fazit und Verabschiedung \n\nHerr Fritsche\, Hauptgeschäftsführer IHK Cottbus\nHerr Prof. Ragwitz\, Leiter Fraunhofer IEG
URL:https://prooh2v.net/event/die-netzentwicklungsplanung-strom-und-gas-wasserstoff-in-der-lausitz-fachimpuls-und-podiumsdiskussion-mit-herrn-mueller-praesident-der-bundesnetzagentur/
LOCATION:IHK Cottbus\, Goethestr. 1\, Cottbus\, Brandenburg\, 03046
ATTACH;FMTTYPE=image/png:https://prooh2v.net/wp-content/uploads/2025/08/Bildschirmfoto-2025-08-26-um-15.17.06.png
END:VEVENT
END:VCALENDAR