BEGIN:VCALENDAR
VERSION:2.0
PRODID:-//PROOH2V | Das Wasserstoff Netzwerk - ECPv6.15.20//NONSGML v1.0//EN
CALSCALE:GREGORIAN
METHOD:PUBLISH
X-WR-CALNAME:PROOH2V | Das Wasserstoff Netzwerk
X-ORIGINAL-URL:https://prooh2v.net
X-WR-CALDESC:Veranstaltungen für PROOH2V | Das Wasserstoff Netzwerk
REFRESH-INTERVAL;VALUE=DURATION:PT1H
X-Robots-Tag:noindex
X-PUBLISHED-TTL:PT1H
BEGIN:VTIMEZONE
TZID:Europe/Berlin
BEGIN:DAYLIGHT
TZOFFSETFROM:+0100
TZOFFSETTO:+0200
TZNAME:CEST
DTSTART:20240331T010000
END:DAYLIGHT
BEGIN:STANDARD
TZOFFSETFROM:+0200
TZOFFSETTO:+0100
TZNAME:CET
DTSTART:20241027T010000
END:STANDARD
BEGIN:DAYLIGHT
TZOFFSETFROM:+0100
TZOFFSETTO:+0200
TZNAME:CEST
DTSTART:20250330T010000
END:DAYLIGHT
BEGIN:STANDARD
TZOFFSETFROM:+0200
TZOFFSETTO:+0100
TZNAME:CET
DTSTART:20251026T010000
END:STANDARD
BEGIN:DAYLIGHT
TZOFFSETFROM:+0100
TZOFFSETTO:+0200
TZNAME:CEST
DTSTART:20260329T010000
END:DAYLIGHT
BEGIN:STANDARD
TZOFFSETFROM:+0200
TZOFFSETTO:+0100
TZNAME:CET
DTSTART:20261025T010000
END:STANDARD
END:VTIMEZONE
BEGIN:VEVENT
DTSTART;TZID=Europe/Berlin:20250821T100000
DTEND;TZID=Europe/Berlin:20250821T170000
DTSTAMP:20260423T101906
CREATED:20250617T075417Z
LAST-MODIFIED:20250617T082218Z
UID:987520762-1755770400-1755795600@prooh2v.net
SUMMARY:5. Mitteldeutscher Wasserstoffkongress in Halle
DESCRIPTION:Bereits zum 5. Mal laden die Europäische Metropolregion Mitteldeutschland und das Wasserstoffnetzwerk HYPOS gemeinsam zum Mitteldeutschen Wasserstoffkongress ein. Die zentrale Wasserstoffveranstaltung der Region bringt seit 2021 Entscheider und Multiplikatoren der Wasserstoffwirtschaft und regionalen Leitbranchen sowie aus Politik\, Verwaltung und Wissenschaft zusammen. \nDatum & Ort \n21. August 2025 (10:00-17:00 Uhr) \nVolkspark Halle (Schleifweg 8a\, 06114 Halle (Saale)) \nProgramm \nFreuen Sie sich auch in diesem Jahr auf hochkarätig besetzte Sessions\, Inputs und Podiumsdiskussionen rund um den Markthochlauf von Grünem Wasserstoff. Auch die 5. Ausgabe der zentralen Wasserstoffveranstaltung der Region wird von einer sehenswerten Ausstellung regionaler und überregionaler Akteure\, Partner und Projekte begleitet. \nDas detaillierte Programm wird im Frühsommer 2025 veröffentlicht. Zu diesem Zeitpunkt wird auch die Online-Anmeldung für die Teilnahme freigeschaltet. \nPartner werden \nSie möchten Ihr Unternehmen / Ihr Wasserstoffprojekt im attraktiven Umfeld des 5. Mitteldeutschen Wasserstoffkongresses einem hochkarätigen Fachpublikum aus Wasserstoffwirtschaft\, Wissenschaft\, Politik und Verwaltung vorstellen? Wir bieten Ihnen dazu verschiedene Sponsoringpakete und attraktive Präsentationsflächen vor Ort. Weitere Infos per E-Mail an Anne Arnholdt (arnholdt@hypos-germany.de) oder Cathrin Neumann (neumann@mitteldeutschland.com). \nWeitere Informationen finden Sie in Kürze im HYPOS-Kalender.
URL:https://prooh2v.net/event/5-mitteldeutscher-wasserstoffkongress-in-halle/
LOCATION:Volkspark Halle\, Schleifweg 8a\, Halle (Saale)\, 06114
ATTACH;FMTTYPE=image/jpeg:https://prooh2v.net/wp-content/uploads/2025/06/MWK_Banner_2025_NEU.jpg
END:VEVENT
END:VCALENDAR